BEGIN:VCALENDAR
VERSION:2.0
PRODID:-//QM Soldiner Quartier - ECPv6.15.20//NONSGML v1.0//EN
CALSCALE:GREGORIAN
METHOD:PUBLISH
X-ORIGINAL-URL:https://www.soldiner-quartier.de
X-WR-CALDESC:Veranstaltungen für QM Soldiner Quartier
REFRESH-INTERVAL;VALUE=DURATION:PT1H
X-Robots-Tag:noindex
X-PUBLISHED-TTL:PT1H
BEGIN:VTIMEZONE
TZID:Europe/Berlin
BEGIN:DAYLIGHT
TZOFFSETFROM:+0100
TZOFFSETTO:+0200
TZNAME:CEST
DTSTART:20230326T010000
END:DAYLIGHT
BEGIN:STANDARD
TZOFFSETFROM:+0200
TZOFFSETTO:+0100
TZNAME:CET
DTSTART:20231029T010000
END:STANDARD
BEGIN:DAYLIGHT
TZOFFSETFROM:+0100
TZOFFSETTO:+0200
TZNAME:CEST
DTSTART:20240331T010000
END:DAYLIGHT
BEGIN:STANDARD
TZOFFSETFROM:+0200
TZOFFSETTO:+0100
TZNAME:CET
DTSTART:20241027T010000
END:STANDARD
BEGIN:DAYLIGHT
TZOFFSETFROM:+0100
TZOFFSETTO:+0200
TZNAME:CEST
DTSTART:20250330T010000
END:DAYLIGHT
BEGIN:STANDARD
TZOFFSETFROM:+0200
TZOFFSETTO:+0100
TZNAME:CET
DTSTART:20251026T010000
END:STANDARD
END:VTIMEZONE
BEGIN:VEVENT
DTSTART;TZID=Europe/Berlin:20241112T180000
DTEND;TZID=Europe/Berlin:20241112T200000
DTSTAMP:20260422T103610
CREATED:20241021T132107Z
LAST-MODIFIED:20241021T132107Z
UID:10000161-1731434400-1731441600@www.soldiner-quartier.de
SUMMARY:Öffentliche Quartiersratssitzung
DESCRIPTION:Im November sind wir zu Gast bei puk a malta – dem Bildungs- und Beschäftigungsträger im Soldiner Kiez. \nDie Sitzung ist öffentlich und interessant auch für die\, die nicht beim Quartiersrat mitmachen möchten. Denn Zuhören und über Neues aus dem Kiez informiert sein\, das dürfen alle. \nWenn du dabei sein willst\, gib uns kurz unter qm-soldiner@list-gmbh.de Bescheid.
URL:https://www.soldiner-quartier.de/event/oeffentliche-quartiersratssitzung-3/
LOCATION:puk a malta\, Drontheimer Str. 32\, Berlin\, Berlin\, 13359\, Deutschland
ATTACH;FMTTYPE=image/png:https://www.soldiner-quartier.de/wp-content/uploads/sites/4/2024/10/QR_Sitzung_Novmber24.png
END:VEVENT
END:VCALENDAR