BEGIN:VCALENDAR
VERSION:2.0
PRODID:-//QM Soldiner Quartier - ECPv6.15.20//NONSGML v1.0//EN
CALSCALE:GREGORIAN
METHOD:PUBLISH
X-ORIGINAL-URL:https://www.soldiner-quartier.de
X-WR-CALDESC:Veranstaltungen für QM Soldiner Quartier
REFRESH-INTERVAL;VALUE=DURATION:PT1H
X-Robots-Tag:noindex
X-PUBLISHED-TTL:PT1H
BEGIN:VTIMEZONE
TZID:Europe/Berlin
BEGIN:DAYLIGHT
TZOFFSETFROM:+0100
TZOFFSETTO:+0200
TZNAME:CEST
DTSTART:20240331T010000
END:DAYLIGHT
BEGIN:STANDARD
TZOFFSETFROM:+0200
TZOFFSETTO:+0100
TZNAME:CET
DTSTART:20241027T010000
END:STANDARD
BEGIN:DAYLIGHT
TZOFFSETFROM:+0100
TZOFFSETTO:+0200
TZNAME:CEST
DTSTART:20250330T010000
END:DAYLIGHT
BEGIN:STANDARD
TZOFFSETFROM:+0200
TZOFFSETTO:+0100
TZNAME:CET
DTSTART:20251026T010000
END:STANDARD
BEGIN:DAYLIGHT
TZOFFSETFROM:+0100
TZOFFSETTO:+0200
TZNAME:CEST
DTSTART:20260329T010000
END:DAYLIGHT
BEGIN:STANDARD
TZOFFSETFROM:+0200
TZOFFSETTO:+0100
TZNAME:CET
DTSTART:20261025T010000
END:STANDARD
END:VTIMEZONE
BEGIN:VEVENT
DTSTART;TZID=Europe/Berlin:20250314T130000
DTEND;TZID=Europe/Berlin:20250314T200000
DTSTAMP:20260420T101811
CREATED:20250303T105357Z
LAST-MODIFIED:20250310T143142Z
UID:10001305-1741957200-1741982400@www.soldiner-quartier.de
SUMMARY:Müll Museum Soldiner Kiez feiert Geburtstag
DESCRIPTION:Herzliche Einladung des Müll Museum Soldiner Kiez \nAm 14. März 2025 ab 13.00 bis … feiern wir\, der Müll Museum Berlin e.V.\, sechs Jahre Müll Museum Soldiner Kiez. \nWir laden euch\, die Nachbarschaft\, den Freund*innenkreis\, die Unterstützer*innen\, das Kieznetzwerk und Interessierte dazu ein. Weil: Ohne euch jeht nüscht. \nAm Freitag\, den 14.03. gibt es Raum zu schnabulieren\, resümieren\, debattieren\, resümieren\, fokussieren\, miteinander zu musizieren … Vor allem aber möchten wir mit euch das (Über)Leben und unsere Freude teilen.\nZudem gibt es kleine aber feine Ausblicke auf die Zukunft der weiteren Arbeit im Kiez und damit auch weiterhin bereichernden Anregungen von und Verknüpfungen mit euch. \nWir freuen uns auf euch. Bleibt aufrecht\, lebendig und gesund. \nDas MüMu-Team
URL:https://www.soldiner-quartier.de/event/muell-museum-soldiner-kiez-feiert-geburtstag/
LOCATION:Müll Museum Soldiner Kiez\, Prinzenallee 39\, Berlin\, 13359
CATEGORIES:Allgemein
ATTACH;FMTTYPE=image/jpeg:https://www.soldiner-quartier.de/wp-content/uploads/sites/4/2025/03/Muemu_6_Jahre_Geburtstag_FINAL.jpg
END:VEVENT
BEGIN:VEVENT
DTSTART;TZID=Europe/Berlin:20250314T110000
DTEND;TZID=Europe/Berlin:20250314T110000
DTSTAMP:20260420T101811
CREATED:20250305T110439Z
LAST-MODIFIED:20250305T110439Z
UID:10001307-1741950000-1741950000@www.soldiner-quartier.de
SUMMARY:MüMu Geburtstag
DESCRIPTION:Wir feiern gemeinsam den 6. Geburtstag des Müll Museums und laden die Nachbarschaft\, den Freund*innenkreis\, die Unterstützer*innen\,\ndas Kieznetzwerk und Interessierte dazu ein.\nEs gibt einiges zu debattieren: die Resultate des Müll Gipfels\, aber auch die daraus resultierenden Projekte\, die im Rahmen\ndes Programmes „Sauberes Stadt“ im Soldiner Kiez umgesetzt werden müssen. U.a. wird es das ganze Jahr hindurch Sperrmülltage geben. \nWir freuen uns auf euch und Eure Unterstützung!
URL:https://www.soldiner-quartier.de/event/muemu-geburtstag-2/
LOCATION:Müll Museum Soldiner Kiez\, Prinzenallee 39\, Berlin\, 13359
ATTACH;FMTTYPE=image/jpeg:https://www.soldiner-quartier.de/wp-content/uploads/sites/4/2025/03/Muell-6.jpg
END:VEVENT
END:VCALENDAR