BEGIN:VCALENDAR
VERSION:2.0
PRODID:-//QM Soldiner Quartier - ECPv6.15.20//NONSGML v1.0//EN
CALSCALE:GREGORIAN
METHOD:PUBLISH
X-ORIGINAL-URL:https://www.soldiner-quartier.de
X-WR-CALDESC:Veranstaltungen für QM Soldiner Quartier
REFRESH-INTERVAL;VALUE=DURATION:PT1H
X-Robots-Tag:noindex
X-PUBLISHED-TTL:PT1H
BEGIN:VTIMEZONE
TZID:Europe/Berlin
BEGIN:DAYLIGHT
TZOFFSETFROM:+0100
TZOFFSETTO:+0200
TZNAME:CEST
DTSTART:20230326T010000
END:DAYLIGHT
BEGIN:STANDARD
TZOFFSETFROM:+0200
TZOFFSETTO:+0100
TZNAME:CET
DTSTART:20231029T010000
END:STANDARD
BEGIN:DAYLIGHT
TZOFFSETFROM:+0100
TZOFFSETTO:+0200
TZNAME:CEST
DTSTART:20240331T010000
END:DAYLIGHT
BEGIN:STANDARD
TZOFFSETFROM:+0200
TZOFFSETTO:+0100
TZNAME:CET
DTSTART:20241027T010000
END:STANDARD
BEGIN:DAYLIGHT
TZOFFSETFROM:+0100
TZOFFSETTO:+0200
TZNAME:CEST
DTSTART:20250330T010000
END:DAYLIGHT
BEGIN:STANDARD
TZOFFSETFROM:+0200
TZOFFSETTO:+0100
TZNAME:CET
DTSTART:20251026T010000
END:STANDARD
END:VTIMEZONE
BEGIN:VEVENT
DTSTART;TZID=Europe/Berlin:20240822T140000
DTEND;TZID=Europe/Berlin:20240823T180000
DTSTAMP:20260421T205840
CREATED:20240625T115120Z
LAST-MODIFIED:20240625T115120Z
UID:10000038-1724335200-1724436000@www.soldiner-quartier.de
SUMMARY:Jute Jurte - Ein Platz für uns! (Feriencamp #2)
DESCRIPTION:Wir bauen eine Kiez-Jurte!  \nGemeinsam mit MÄDEA – Mädchenzentrum für Empowerment und Feminismus der Stiftung SPI im Soldiner Kiez bauen wir in einem 2-wöchigen Feriencamp eine mobile Jurte für uns und unsere Nachbarschaft. \nDie Jurte wird im solidarischen Lehr- und Gemeinschaftsgarten ElisaBeet aufgebaut. \nWir lernen den Umgang mit elektrischen Werkzeugen und Handgeräten\, die kulturelle Geschichte von Jurten\, den Bau einer Jurte\, gemeinsam als Gruppe etwas zu erschaffen und am Bauprozess aktiv teilzuhaben. In einem sicheren Rahmen. \nDamit möchten wir zur Autonomie\,Selbstbestimmung und Selbstwirksamkeit der Teilnehmenden beitragen. Und zur Teilhabe im eigenen Kiez. \nWir entdecken dabei den ElisaBeet Garten und die Stadtnatur durmherum\, kochen mit frischem Gemüse vom Acker und schlagen eine Brücke zu Themen von Umwelt- und Klimaschutz. \nDas Feriencamp ist kostenlos für alle Teilnehmenden. Gemeinsam wird gebaut\, gekocht\, mit Freund*innen und Familie gefeiert und entspannt. \nNach dem Bau steht die Jurte in 2024 über 3 Monate für Nutzung und Veranstaltungen zur Verfügung. Die Teilnehmenden können selbst Ideen einbringen und Veranstaltungen mitgestalten. Die Jurte steht auch anderen Kiez-Initiativen in diesem Zeitraum kostenlos zur Nutzung zur Verfügung. \nTermine für den Jurtenbau \nFeriencamp für Mädchen* und junge FLINTA (bis 18 Jahre) \n\nTeil #1: Montag \, 22. Juli bis Freitag\, 26. Juli\, immer 14-18 Uhr\, mit Verpflegung\nTeil #2: Donnerstag\, 22. August 14 Uhr bis Freitag\, 23. August 18 Uhr; mit Übernachtung und Verpflegung\n\n 
URL:https://www.soldiner-quartier.de/event/jute-jurte-ein-platz-fuer-uns-feriencamp-2/
LOCATION:ElisaBeet\, St.-Elisabeth-Friedhof II Wollankstraße 66\, 13359 Berlin
ATTACH;FMTTYPE=image/png:https://www.soldiner-quartier.de/wp-content/uploads/sites/4/2024/06/Screenshot-2024-06-25-134052.png
END:VEVENT
END:VCALENDAR