BEGIN:VCALENDAR
VERSION:2.0
PRODID:-//QM Soldiner Quartier - ECPv6.15.20//NONSGML v1.0//EN
CALSCALE:GREGORIAN
METHOD:PUBLISH
X-ORIGINAL-URL:https://www.soldiner-quartier.de
X-WR-CALDESC:Veranstaltungen für QM Soldiner Quartier
REFRESH-INTERVAL;VALUE=DURATION:PT1H
X-Robots-Tag:noindex
X-PUBLISHED-TTL:PT1H
BEGIN:VTIMEZONE
TZID:Europe/Berlin
BEGIN:DAYLIGHT
TZOFFSETFROM:+0100
TZOFFSETTO:+0200
TZNAME:CEST
DTSTART:20230326T010000
END:DAYLIGHT
BEGIN:STANDARD
TZOFFSETFROM:+0200
TZOFFSETTO:+0100
TZNAME:CET
DTSTART:20231029T010000
END:STANDARD
BEGIN:DAYLIGHT
TZOFFSETFROM:+0100
TZOFFSETTO:+0200
TZNAME:CEST
DTSTART:20240331T010000
END:DAYLIGHT
BEGIN:STANDARD
TZOFFSETFROM:+0200
TZOFFSETTO:+0100
TZNAME:CET
DTSTART:20241027T010000
END:STANDARD
BEGIN:DAYLIGHT
TZOFFSETFROM:+0100
TZOFFSETTO:+0200
TZNAME:CEST
DTSTART:20250330T010000
END:DAYLIGHT
BEGIN:STANDARD
TZOFFSETFROM:+0200
TZOFFSETTO:+0100
TZNAME:CET
DTSTART:20251026T010000
END:STANDARD
END:VTIMEZONE
BEGIN:VEVENT
DTSTART;TZID=Europe/Berlin:20240713T100000
DTEND;TZID=Europe/Berlin:20240713T180000
DTSTAMP:20260421T172359
CREATED:20240620T090640Z
LAST-MODIFIED:20240624T094458Z
UID:10000026-1720864800-1720893600@www.soldiner-quartier.de
SUMMARY:Jurten Werkstatt für Frauen & FLINTA*
DESCRIPTION:Wir bauen eine Jurte in und für den Soldiner Kiez (Nähe Wollankstraße)\n\nAn zwei Wochenenden  im Juli.\n\n\n\n\n\n\n\nDie Teilnahme ist offen für Frauen\, Lesben\, Inter\, Non-binary\, Trans & Agender Personen.\n\nAnmeldung und Details findest du hier\n\n In einer Gruppe von max. 10 Personen lernst du die Basics des Jurtenbaus.\n🔨Wir fertigen die Elemente einer Jurte an:  das Scherengitter\, Dachstangen und Lichtring.\n👩‍🔧 Wir arbeiten mit verschiedenen Werkzeugen: Akkubohrer\, Oberfräse\, Elektrohobel.\n🤗 Du brauchst keine Vorkentnisse.\n📖 Wir beschäftigen uns mit der Herkunft und Geschichte der Jurten\n🎪 und lernen über die Bauweisen\, vor allem den mongolischen Baustil.\n\nGefördert wird dieses Projekt durch den Aktionfonds 2024 des QM Soldiner Straße/Wollankstraße
URL:https://www.soldiner-quartier.de/event/jurten-werkstatt-fuer-frauen-flinta/2024-07-13/
LOCATION:ElisaBeet\, St.-Elisabeth-Friedhof II Wollankstraße 66\, 13359 Berlin
ATTACH;FMTTYPE=image/jpeg:https://www.soldiner-quartier.de/wp-content/uploads/sites/4/2024/06/Jurtencamp-2023_1-scaled.jpg
END:VEVENT
BEGIN:VEVENT
DTSTART;TZID=Europe/Berlin:20240707T120000
DTEND;TZID=Europe/Berlin:20240707T170000
DTSTAMP:20260421T172400
CREATED:20240620T090640Z
LAST-MODIFIED:20240624T094458Z
UID:10000025-1720353600-1720371600@www.soldiner-quartier.de
SUMMARY:Jurten Werkstatt für Frauen & FLINTA*
DESCRIPTION:Wir bauen eine Jurte in und für den Soldiner Kiez (Nähe Wollankstraße)\n\nAn zwei Wochenenden  im Juli.\n\n\n\n\n\n\n\nDie Teilnahme ist offen für Frauen\, Lesben\, Inter\, Non-binary\, Trans & Agender Personen.\n\nAnmeldung und Details findest du hier\n\n In einer Gruppe von max. 10 Personen lernst du die Basics des Jurtenbaus.\n🔨Wir fertigen die Elemente einer Jurte an:  das Scherengitter\, Dachstangen und Lichtring.\n👩‍🔧 Wir arbeiten mit verschiedenen Werkzeugen: Akkubohrer\, Oberfräse\, Elektrohobel.\n🤗 Du brauchst keine Vorkentnisse.\n📖 Wir beschäftigen uns mit der Herkunft und Geschichte der Jurten\n🎪 und lernen über die Bauweisen\, vor allem den mongolischen Baustil.\n\nGefördert wird dieses Projekt durch den Aktionfonds 2024 des QM Soldiner Straße/Wollankstraße
URL:https://www.soldiner-quartier.de/event/jurten-werkstatt-fuer-frauen-flinta/2024-07-07/
LOCATION:ElisaBeet\, St.-Elisabeth-Friedhof II Wollankstraße 66\, 13359 Berlin
ATTACH;FMTTYPE=image/jpeg:https://www.soldiner-quartier.de/wp-content/uploads/sites/4/2024/06/Jurtencamp-2023_1-scaled.jpg
END:VEVENT
BEGIN:VEVENT
DTSTART;TZID=Europe/Berlin:20240706T100000
DTEND;TZID=Europe/Berlin:20240706T170000
DTSTAMP:20260421T172400
CREATED:20240620T090640Z
LAST-MODIFIED:20240624T094458Z
UID:10000024-1720260000-1720285200@www.soldiner-quartier.de
SUMMARY:Jurten Werkstatt für Frauen & FLINTA*
DESCRIPTION:Wir bauen eine Jurte in und für den Soldiner Kiez (Nähe Wollankstraße)\n\nAn zwei Wochenenden  im Juli.\n\n\n\n\n\n\n\nDie Teilnahme ist offen für Frauen\, Lesben\, Inter\, Non-binary\, Trans & Agender Personen.\n\nAnmeldung und Details findest du hier\n\n In einer Gruppe von max. 10 Personen lernst du die Basics des Jurtenbaus.\n🔨Wir fertigen die Elemente einer Jurte an:  das Scherengitter\, Dachstangen und Lichtring.\n👩‍🔧 Wir arbeiten mit verschiedenen Werkzeugen: Akkubohrer\, Oberfräse\, Elektrohobel.\n🤗 Du brauchst keine Vorkentnisse.\n📖 Wir beschäftigen uns mit der Herkunft und Geschichte der Jurten\n🎪 und lernen über die Bauweisen\, vor allem den mongolischen Baustil.\n\nGefördert wird dieses Projekt durch den Aktionfonds 2024 des QM Soldiner Straße/Wollankstraße
URL:https://www.soldiner-quartier.de/event/jurten-werkstatt-fuer-frauen-flinta/2024-07-06/
LOCATION:ElisaBeet\, St.-Elisabeth-Friedhof II Wollankstraße 66\, 13359 Berlin
ATTACH;FMTTYPE=image/jpeg:https://www.soldiner-quartier.de/wp-content/uploads/sites/4/2024/06/Jurtencamp-2023_1-scaled.jpg
END:VEVENT
BEGIN:VEVENT
DTSTART;TZID=Europe/Berlin:20240705T173000
DTEND;TZID=Europe/Berlin:20240705T193000
DTSTAMP:20260421T172400
CREATED:20240620T090640Z
LAST-MODIFIED:20240624T094458Z
UID:10000023-1720200600-1720207800@www.soldiner-quartier.de
SUMMARY:Jurten Werkstatt für Frauen & FLINTA*
DESCRIPTION:Wir bauen eine Jurte in und für den Soldiner Kiez (Nähe Wollankstraße)\n\nAn zwei Wochenenden  im Juli.\n\n\n\n\n\n\n\nDie Teilnahme ist offen für Frauen\, Lesben\, Inter\, Non-binary\, Trans & Agender Personen.\n\nAnmeldung und Details findest du hier\n\n In einer Gruppe von max. 10 Personen lernst du die Basics des Jurtenbaus.\n🔨Wir fertigen die Elemente einer Jurte an:  das Scherengitter\, Dachstangen und Lichtring.\n👩‍🔧 Wir arbeiten mit verschiedenen Werkzeugen: Akkubohrer\, Oberfräse\, Elektrohobel.\n🤗 Du brauchst keine Vorkentnisse.\n📖 Wir beschäftigen uns mit der Herkunft und Geschichte der Jurten\n🎪 und lernen über die Bauweisen\, vor allem den mongolischen Baustil.\n\nGefördert wird dieses Projekt durch den Aktionfonds 2024 des QM Soldiner Straße/Wollankstraße
URL:https://www.soldiner-quartier.de/event/jurten-werkstatt-fuer-frauen-flinta/2024-07-05/
LOCATION:ElisaBeet\, St.-Elisabeth-Friedhof II Wollankstraße 66\, 13359 Berlin
ATTACH;FMTTYPE=image/jpeg:https://www.soldiner-quartier.de/wp-content/uploads/sites/4/2024/06/Jurtencamp-2023_1-scaled.jpg
END:VEVENT
END:VCALENDAR