BEGIN:VCALENDAR
VERSION:2.0
PRODID:-//QM Soldiner Quartier - ECPv6.15.20//NONSGML v1.0//EN
CALSCALE:GREGORIAN
METHOD:PUBLISH
X-WR-CALNAME:QM Soldiner Quartier
X-ORIGINAL-URL:https://www.soldiner-quartier.de
X-WR-CALDESC:Veranstaltungen für QM Soldiner Quartier
REFRESH-INTERVAL;VALUE=DURATION:PT1H
X-Robots-Tag:noindex
X-PUBLISHED-TTL:PT1H
BEGIN:VTIMEZONE
TZID:Europe/Berlin
BEGIN:DAYLIGHT
TZOFFSETFROM:+0100
TZOFFSETTO:+0200
TZNAME:CEST
DTSTART:20240331T010000
END:DAYLIGHT
BEGIN:STANDARD
TZOFFSETFROM:+0200
TZOFFSETTO:+0100
TZNAME:CET
DTSTART:20241027T010000
END:STANDARD
BEGIN:DAYLIGHT
TZOFFSETFROM:+0100
TZOFFSETTO:+0200
TZNAME:CEST
DTSTART:20250330T010000
END:DAYLIGHT
BEGIN:STANDARD
TZOFFSETFROM:+0200
TZOFFSETTO:+0100
TZNAME:CET
DTSTART:20251026T010000
END:STANDARD
BEGIN:DAYLIGHT
TZOFFSETFROM:+0100
TZOFFSETTO:+0200
TZNAME:CEST
DTSTART:20260329T010000
END:DAYLIGHT
BEGIN:STANDARD
TZOFFSETFROM:+0200
TZOFFSETTO:+0100
TZNAME:CET
DTSTART:20261025T010000
END:STANDARD
END:VTIMEZONE
BEGIN:VEVENT
DTSTART;TZID=Europe/Berlin:20250326T180000
DTEND;TZID=Europe/Berlin:20250326T190000
DTSTAMP:20260424T142139
CREATED:20250319T154504Z
LAST-MODIFIED:20250319T154504Z
UID:10001316-1743012000-1743015600@www.soldiner-quartier.de
SUMMARY:Workshop: Bürger*innenbeteiligung - Wie funktioniert das?
DESCRIPTION:In dem interaktiven Workshop geben wir euch einen Überblick über die Gestaltungsmöglichkeiten im Bezirk Mitte. \nIhr erfahrt\, wie ihr euch über aktuellen Bauprojekten informieren und eure Meinung einbringen könnt. Bringt gerne auch eigene Fragen und Themen mit\, damit diese im Workshop besprochen werden können. \nWo? Adolfstraße 12\, 13347 Berlin\nWann? 26.03.2025\, 18:00 – 19:00 Uhr \nAnmeldungen gerne per Mail an beteiligung-mitte@list-gmbh.de \nDie Veranstaltung ist kostenfrei!
URL:https://www.soldiner-quartier.de/event/workshop-buergerinnenbeteiligung-wie-funktioniert-das/
ATTACH;FMTTYPE=image/png:https://www.soldiner-quartier.de/wp-content/uploads/sites/4/2025/03/Screenshot-2025-03-19-164355.png
ORGANIZER;CN="B%C3%BCro f%C3%BCr B%C3%BCrger*innenbeteiligung Mitte":MAILTO:beteiligung-mitte@list-gmbh.de
END:VEVENT
END:VCALENDAR